BEGIN:VCALENDAR
VERSION:2.0
PRODID:-//ChamberMaster//Event Calendar 2.0//EN
METHOD:PUBLISH
X-PUBLISHED-TTL:P3D
REFRESH-INTERVAL:P3D
CALSCALE:GREGORIAN
BEGIN:VEVENT
DTSTART:20191102T130000Z
DTEND:20191102T200000Z
X-MICROSOFT-CDO-ALLDAYEVENT:FALSE
SUMMARY:The North Pole Craft Show
DESCRIPTION:The Shelby County Homemaker's Club "The Fun Loving Fillies" is hosting "The North Pole Craft Show" on Saturday\, November 2\, 2019 from 9 am-4 pm. This show is one day only. We are soliciting vendors that make predominately handmade crafts. We will not allow direct marketing companies. The booth fee is only $40.00\, electric is free if needed\, let us know. Extra tables are available for renting at $10 each. The booths will be 10'x10'. The vendor and table fees are benefitting "Operation CatSnip of Ky\, Inc.". Parking is free. If you would like to be considered as a vendor please register online at: http://www.operationcatsnipky.org/thenorthpolecraftshow.html or for more info call/text 502-220-0271 or email shillcatlvr@gmail.com Registration will close: October 28\, 2019. Concessions will be available.
X-ALT-DESC;FMTTYPE=text/html:The Shelby County Homemaker&#39\;s Club &quot\;The Fun Loving Fillies&quot\; is hosting &quot\;The North Pole Craft Show&quot\; on Saturday\, November 2\, 2019 from 9 am-4 pm. This show is one day only. We are soliciting vendors that make predominately handmade crafts. We will not allow direct marketing companies. The booth fee is only $40.00\, electric is free if needed\, let us know. Extra tables are available for renting at $10 each. The booths will be 10&#39\;x10&#39\;. The vendor and table fees are benefitting &quot\;Operation CatSnip of Ky\, Inc.&quot\;. Parking is free. If you would like to be considered as a vendor please register online at: http://www.operationcatsnipky.org/thenorthpolecraftshow.html or for more info call/text 502-220-0271 or email shillcatlvr@gmail.com Registration will close: October 28\, 2019. Concessions will be available.
LOCATION:1117 Frankfort Rd\, Shelbyville\, KY Shelby County Co-Op Extension Office
UID:e.1343.6893
SEQUENCE:3
DTSTAMP:20260420T203544Z
URL:https://business.shelbycountykychamber.com/events/details/the-north-pole-craft-show-6893
END:VEVENT

END:VCALENDAR
