BEGIN:VCALENDAR
VERSION:2.0
PRODID:-//ChamberMaster//Event Calendar 2.0//EN
METHOD:PUBLISH
X-PUBLISHED-TTL:P3D
REFRESH-INTERVAL:P3D
CALSCALE:GREGORIAN
BEGIN:VEVENT
DTSTART:20241017T220000Z
DTEND:20241018T010000Z
X-MICROSOFT-CDO-ALLDAYEVENT:FALSE
SUMMARY:Stargazing Educational Experience
DESCRIPTION:Come on over to Clay Street Baptist Church parking lot and join us for a Stargazing Educational Experience! The Louisville Astronomical Society will be teaching us about the night sky and when the sun sets\, we'll SEE what we can SEE in the sky. Bring a chair\, a blanket\, and a friend! We'll have the hot chocolate and popcorn!
X-ALT-DESC;FMTTYPE=text/html:Come on over to Clay Street Baptist Church parking lot and join us for a Stargazing Educational Experience! The Louisville Astronomical Society will be teaching us about the night sky and when the sun sets\, we&#39\;ll SEE what we can SEE in the sky. Bring a chair\, a blanket\, and a friend! We&#39\;ll have the hot chocolate and popcorn!
LOCATION:1940 Midland Trail Shelbyville\, KY 40065
UID:e.1343.9132
SEQUENCE:3
DTSTAMP:20260422T130651Z
URL:https://business.shelbycountykychamber.com/events/details/stargazing-educational-experience-9132
END:VEVENT

END:VCALENDAR
