BEGIN:VCALENDAR
VERSION:2.0
PRODID:-//ChamberMaster//Event Calendar 2.0//EN
METHOD:PUBLISH
X-PUBLISHED-TTL:P3D
REFRESH-INTERVAL:P3D
CALSCALE:GREGORIAN
BEGIN:VEVENT
DTSTART:20260520T153000Z
DTEND:20260520T170000Z
X-MICROSOFT-CDO-ALLDAYEVENT:FALSE
SUMMARY:Shelby County Chamber & Industrial Foundation Stakeholders Lunch
DESCRIPTION:Shelby County Chamber of Commerce & Shelby County Industrial Development Foundation Stakeholders Lunch featuring Toyota Kentucky President\, Kerry Creech
X-ALT-DESC;FMTTYPE=text/html:<span style="font-size:14px\;"><span style="font-family:arial\;">Shelby County Chamber of Commerce &amp\; Shelby County Industrial Development Foundation Stakeholders Lunch featuring Toyota Kentucky President\, Kerry Creech</span></span>
LOCATION:Shelbyville Welcome & Conference Center\, 2519 7th Street\, Shelbyville
UID:e.1343.9239
SEQUENCE:3
DTSTAMP:20260425T120032Z
URL:https://business.shelbycountykychamber.com/events/details/shelby-county-chamber-industrial-foundation-stakeholders-lunch-9239
END:VEVENT

END:VCALENDAR
