BEGIN:VCALENDAR
VERSION:2.0
PRODID:-//ChamberMaster//Event Calendar 2.0//EN
METHOD:PUBLISH
X-PUBLISHED-TTL:P3D
REFRESH-INTERVAL:P3D
CALSCALE:GREGORIAN
BEGIN:VEVENT
DTSTART:20191102T220000Z
DTEND:20191103T000000Z
X-MICROSOFT-CDO-ALLDAYEVENT:FALSE
SUMMARY:NAACP Freedom Fund Banquet
DESCRIPTION:Annual Scholarship Fundraiser. Our theme is "When We Fight\, We Win!" Our guest speaker will be Dr. Ricky L. Jones\, Professor and Chair of the University of Louisville Department of Pan-African Studies. Jones is the host of the award-winning "Ricky Jones Show on The REAL 93.1 FM Louisville from iHeart Media. He is also a contributing columnist for the Louisville Courier-Journal.
X-ALT-DESC;FMTTYPE=text/html:Annual Scholarship Fundraiser. Our theme is &quot\;When We Fight\, We Win!&quot\; Our guest speaker will be Dr. Ricky L. Jones\, Professor and Chair of the University of Louisville Department of Pan-African Studies. Jones is the host of the award-winning &quot\;Ricky Jones Show on The REAL 93.1 FM Louisville from iHeart Media. He is also a contributing columnist for the Louisville Courier-Journal.
LOCATION:Highland Baptist Church\, 511 Mount Eden Road\, Shelbyville\, KY
UID:e.1343.7054
SEQUENCE:3
DTSTAMP:20260420T184541Z
URL:https://business.shelbycountykychamber.com/events/details/naacp-freedom-fund-banquet-7054
END:VEVENT

END:VCALENDAR
