BEGIN:VCALENDAR
VERSION:2.0
PRODID:-//ChamberMaster//Event Calendar 2.0//EN
METHOD:PUBLISH
X-PUBLISHED-TTL:P3D
REFRESH-INTERVAL:P3D
CALSCALE:GREGORIAN
BEGIN:VEVENT
DTSTART:20220331T113000Z
DTEND:20220331T130000Z
X-MICROSOFT-CDO-ALLDAYEVENT:FALSE
SUMMARY:Morning Mixer @ ShelbyKY Tourism
DESCRIPTION:Please join us with a Morning Mixer to welcome Janette Marson as the new CEO with ShelbyKY Tourism!
X-ALT-DESC;FMTTYPE=text/html:Please join us with a Morning Mixer to welcome Janette Marson as the new CEO with ShelbyKY Tourism!
LOCATION:Shelbyville Conference Center 219 7th Street Shelbyville KY
UID:e.1343.8495
SEQUENCE:3
DTSTAMP:20260420T075458Z
URL:https://business.shelbycountykychamber.com/events/details/morning-mixer-shelbyky-tourism-8495
END:VEVENT

END:VCALENDAR
