BEGIN:VCALENDAR
VERSION:2.0
PRODID:-//ChamberMaster//Event Calendar 2.0//EN
METHOD:PUBLISH
X-PUBLISHED-TTL:P3D
REFRESH-INTERVAL:P3D
CALSCALE:GREGORIAN
BEGIN:VEVENT
DTSTART:20241116T153000Z
DTEND:20241116T220000Z
X-MICROSOFT-CDO-ALLDAYEVENT:FALSE
SUMMARY:Making Money in Music Workshop
DESCRIPTION:Unlock the secrets to financial success in the music industry with our "Making Money in Music" workshop at Studio 223\, collaboratively brought to you by SDML Academy of Guitar and Feltner Artist Management. This dynamic workshop is meticulously crafted for musicians\, songwriters\, and producers ready to transform their creative outputs into substantial income. Join Angelee Feltner\, a trailblazer in the music business with over ten years of spearheading artist management and music business strategies. Having shaped the careers of numerous artists and orchestrated major retail and promotional campaigns across 650 Cracker Barrel stores\, Angelee's expertise is unparalleled. Her robust background in business administration and music marketing uniquely equips her to mentor attendees on navigating the complex landscape of music monetization. This comprehensive workshop will explore essential topics such as copyrighting\, publishing\, royalties\, licensing\, and the steps to building your own music business. Beyond the basics\, delve into advanced strategies for artist branding\, mastering digital and physical music promotion\, and optimizing touring to maximize your revenue and audience connection. Participants will leave not just with theoretical knowledge but with actionable tools and insights that can be immediately applied to their careers. Whether you're just starting out or looking to elevate your music business\, this workshop is your gateway to turning your musical passion into a profitable venture. Don't miss out exclusive discounts are available for SDML Members and Shelby County Chamber of Commerce members. Join us to step confidently into the business side of music and claim your share of the industry's earnings.
X-ALT-DESC;FMTTYPE=text/html:Unlock the secrets to financial success in the music industry with our &quot\;Making Money in Music&quot\; workshop at Studio 223\, collaboratively brought to you by SDML Academy of Guitar and Feltner Artist Management. This dynamic workshop is meticulously crafted for musicians\, songwriters\, and producers ready to transform their creative outputs into substantial income. Join Angelee Feltner\, a trailblazer in the music business with over ten years of spearheading artist management and music business strategies. Having shaped the careers of numerous artists and orchestrated major retail and promotional campaigns across 650 Cracker Barrel stores\, Angelee&#39\;s expertise is unparalleled. Her robust background in business administration and music marketing uniquely equips her to mentor attendees on navigating the complex landscape of music monetization. This comprehensive workshop will explore essential topics such as copyrighting\, publishing\, royalties\, licensing\, and the steps to building your own music business. Beyond the basics\, delve into advanced strategies for artist branding\, mastering digital and physical music promotion\, and optimizing touring to maximize your revenue and audience connection. Participants will leave not just with theoretical knowledge but with actionable tools and insights that can be immediately applied to their careers. Whether you&#39\;re just starting out or looking to elevate your music business\, this workshop is your gateway to turning your musical passion into a profitable venture. Don&rsquo\;t miss out&mdash\;exclusive discounts are available for SDML Members and Shelby County Chamber of Commerce members. Join us to step confidently into the business side of music and claim your share of the industry&rsquo\;s earnings.
LOCATION:Studio 223 408 Sixth Street\, Shelbyville\, KY\, United States\, Kentucky 40065
UID:e.1343.9136
SEQUENCE:3
DTSTAMP:20260425T120017Z
URL:https://business.shelbycountykychamber.com/events/details/making-money-in-music-workshop-9136
END:VEVENT

END:VCALENDAR
