BEGIN:VCALENDAR
VERSION:2.0
PRODID:-//ChamberMaster//Event Calendar 2.0//EN
METHOD:PUBLISH
X-PUBLISHED-TTL:P3D
REFRESH-INTERVAL:P3D
CALSCALE:GREGORIAN
BEGIN:VEVENT
DTSTART:20191207T230000Z
DTEND:20191208T020000Z
X-MICROSOFT-CDO-ALLDAYEVENT:FALSE
SUMMARY:Feliz Navidad Christmas Dinner & Auction
DESCRIPTION:Cornerstone Christian Academy invites you to join us for a "Feliz Navidad" Christmas Dinner & Auction event on Saturday\, December 7th. Evening will include entertainment\, delicious dinner\, desserts\, Silent and Live Auction\, wreath and centerpieces sales. Event tickets are $35/Adult and $15/Student\; RSVP to BeckyWilliams@CCAofKY.org or call 502-633-4070.
X-ALT-DESC;FMTTYPE=text/html:Cornerstone Christian Academy invites you to join us for a &quot\;Feliz Navidad&quot\; Christmas Dinner &amp\; Auction event on Saturday\, December 7th. Evening will include entertainment\, delicious dinner\, desserts\, Silent and Live Auction\, wreath and centerpieces sales. Event tickets are $35/Adult and $15/Student\; RSVP to BeckyWilliams@CCAofKY.org or call 502-633-4070.
LOCATION:Cornerstone Christian Academy 3850 Frankfort Road Shelbyville\, KY 40065
UID:e.1343.8062
SEQUENCE:3
DTSTAMP:20260420T221919Z
URL:https://business.shelbycountykychamber.com/events/details/feliz-navidad-christmas-dinner-auction-8062
END:VEVENT

END:VCALENDAR
