BEGIN:VCALENDAR
VERSION:2.0
PRODID:-//ChamberMaster//Event Calendar 2.0//EN
METHOD:PUBLISH
X-PUBLISHED-TTL:P3D
REFRESH-INTERVAL:P3D
CALSCALE:GREGORIAN
BEGIN:VEVENT
DTSTART:20150425T160000Z
DTEND:20150425T230000Z
X-MICROSOFT-CDO-ALLDAYEVENT:FALSE
SUMMARY:Corpus Christi Music Fest
DESCRIPTION:Corpus Christi Music Fest and Arts&Crafts show Come out and enjoy a lot of music and fun for the whole family. New Breed Band along with many other local bands for a day filled with music for all to enjoy. There will also be food and drink\, and bouncy houses and face painting for the kids. And if you like to shop for arts and crafts \, many vendors will be there. If you would like to be apart of the show there are booths areas available for rent.
X-ALT-DESC;FMTTYPE=text/html:Corpus Christi Music Fest and Arts&amp\;Crafts show Come out and enjoy a lot of music and fun for the whole family. New Breed Band along with many other local bands for a day filled with music for all to enjoy. There will also be food and drink\, and bouncy houses and face painting for the kids. And if you like to shop for arts and crafts \, many vendors will be there. If you would like to be apart of the show there are booths areas available for rent.
LOCATION:Simpsonville Ky \,7010 US 60 in the heart of town @ Corpus Christi Classical Academy.
UID:e.1343.1990
SEQUENCE:3
DTSTAMP:20260426T013449Z
URL:https://business.shelbycountykychamber.com/events/details/corpus-christi-music-fest-04-25-2015-1990
END:VEVENT

END:VCALENDAR
