BEGIN:VCALENDAR
VERSION:2.0
PRODID:-//ChamberMaster//Event Calendar 2.0//EN
METHOD:PUBLISH
X-PUBLISHED-TTL:P3D
REFRESH-INTERVAL:P3D
CALSCALE:GREGORIAN
BEGIN:VEVENT
DTSTART:20200211T223000Z
DTEND:20200212T003000Z
X-MICROSOFT-CDO-ALLDAYEVENT:FALSE
SUMMARY:Community Open House
DESCRIPTION:Prospective families invited to tour campus and meet faculty. Enrolling students for 2020-21 Preschool (age 3) through 12th grade. Contact Admissions for more information: 502.633.4070 www.CCAofKY.org
X-ALT-DESC;FMTTYPE=text/html:Prospective families invited to tour campus and meet faculty. Enrolling students for 2020-21 Preschool (age 3) through 12th grade. Contact Admissions for more information: 502.633.4070 www.CCAofKY.org
LOCATION:Cornerstone Christian Academy 3850 Frankfort Road Shelbyville\, KY 40065
UID:e.1343.8071
SEQUENCE:3
DTSTAMP:20260420T184314Z
URL:https://business.shelbycountykychamber.com/events/details/community-open-house-02-11-2020-8071
END:VEVENT

END:VCALENDAR
