BEGIN:VCALENDAR
VERSION:2.0
PRODID:-//ChamberMaster//Event Calendar 2.0//EN
METHOD:PUBLISH
X-PUBLISHED-TTL:P3D
REFRESH-INTERVAL:P3D
CALSCALE:GREGORIAN
BEGIN:VEVENT
DTSTART:20201216T170000Z
DTEND:20201216T180000Z
X-MICROSOFT-CDO-ALLDAYEVENT:FALSE
SUMMARY:Annual Meeting & Awards Luncheon 2020
DESCRIPTION:Annual Luncheon is VIRTUAL\n\nTHIS EVENT IS SOLD OUT!\n\n\n\nDecember 16\, 2020\n\n12pm to 1pm\n\n\n\nFood is being provided by Catering by Kate.\n\nYour meal must be picked up between 11:00am and 11:30am from\n\n934 Main Street - 10th Street side of building.\n\nIf you registered for a "table(s)"\, you will be given an assigned time for pick up.  We want to make sure your lunch is picked up fresh and hot!\n\n\n\nZoom link for luncheon will be emailed December 15\, 2020.\n\n\n\nYou'll have time to pick up your lunch\, return to your office and login to Zoom to participate in the luncheon. \n\n\n\nThere will be drawings for fabulous baskets for all who attend!  You must be logged in to the luncheon in order to be eligible for the drawing.\n\n\n\nQuestions: Please email Darlene@DarleneSnow.com\n\nThank you!
X-ALT-DESC;FMTTYPE=text/html:<p font-size:="" style="color: rgb(51\, 51\, 51)\; text-align: center\;" text-align:="" trebuchet=""><span style="font-size:20px\;"><strong><span style="font-size:22px\;">Annual Luncheon is<span style="color:#FF0000\;"> VIRTUAL<br />\nTHIS EVENT IS SOLD OUT!</span></span><br />\n<br />\nDecember 16\, 2020<br />\n12pm to 1pm</strong></span><br />\n<br />\n<span style="font-size:18px\;">Food is being provided by Catering by Kate.<br />\nYour meal must be picked up between 11:00am and 11:30am from<br />\n934 Main Street - 10th Street side of building.<br />\nIf you registered for a &quot\;table(s)&quot\;\, you will be given an assigned time for pick up.&nbsp\; We want to make sure your lunch is picked up fresh and hot!<br />\n<br />\nZoom link for luncheon will be emailed December 15\, 2020.<br />\n<br />\nYou&#39\;ll have time to pick up your lunch\, return to your office and login to Zoom to participate in the luncheon.&nbsp\;<br />\n<br />\nThere will be drawings for fabulous baskets for all who attend!&nbsp\; You must be logged in to the luncheon in order to be eligible for the drawing.<br />\n<br />\nQuestions: Please email <a href="mailto:Darlene@DarleneSnow.com">Darlene@DarleneSnow.com</a><br />\nThank you!</span></p>\n
LOCATION:
UID:e.1343.8141
SEQUENCE:3
DTSTAMP:20260424T154124Z
URL:https://business.shelbycountykychamber.com/events/details/annual-meeting-awards-luncheon-2020-8141
END:VEVENT

END:VCALENDAR
