BEGIN:VCALENDAR
VERSION:2.0
PRODID:-//ChamberMaster//Event Calendar 2.0//EN
METHOD:PUBLISH
X-PUBLISHED-TTL:P3D
REFRESH-INTERVAL:P3D
CALSCALE:GREGORIAN
BEGIN:VEVENT
DTSTART:20150314T140000Z
DTEND:20150314T190000Z
X-MICROSOFT-CDO-ALLDAYEVENT:FALSE
SUMMARY:2015 Community Showcase
DESCRIPTION:2015 Community Showcase\n\n\n\n10:00am to 3:00pm\n\n\n\nThis event is free to attend and open to the public!\n\n\n\nBooth Registration & Sponsorship Form \n\nYou must be a Shelby County Chamber member to set up as an exhibitor or sponsor.
X-ALT-DESC;FMTTYPE=text/html:<p style="text-align: center\;"><span style="font-size: 18px\;"><span style="font-family: comic sans ms\;"><span style="color: rgb(0\, 0\, 128)\;"><span style="font-size: 24px\;"><strong>2015 Community Showcase</strong></span><br />\n<br />\n10:00am to 3:00pm<br />\n<br />\nThis event is free to attend and open to the public!<br />\n<br />\n<span style="font-size: 24px\;"><strong><a href="http://cloud.chambermaster.com/userfiles/UserFiles/chambers/1343/File/BoothSponsorshipform2015.pdf">Booth Registration &amp\; Sponsorship Form</a> </strong></span></span></span></span><br />\n<em>You must be a Shelby County Chamber member to set up as an exhibitor or sponsor.</em></p>\n
LOCATION:Shelby County High School 1701 Frankfort Road Shelbyville\, KY 40065
UID:e.1343.1956
SEQUENCE:3
DTSTAMP:20260426T013531Z
URL:https://business.shelbycountykychamber.com/events/details/2015-community-showcase-03-14-2015-1956
END:VEVENT

END:VCALENDAR
